BEGIN:VCALENDAR
VERSION:2.0
PRODID:-//Lake Oconee Humane Society - ECPv6.15.16//NONSGML v1.0//EN
CALSCALE:GREGORIAN
METHOD:PUBLISH
X-ORIGINAL-URL:https://lohspets.org
X-WR-CALDESC:Events for Lake Oconee Humane Society
REFRESH-INTERVAL;VALUE=DURATION:PT1H
X-Robots-Tag:noindex
X-PUBLISHED-TTL:PT1H
BEGIN:VTIMEZONE
TZID:America/New_York
BEGIN:DAYLIGHT
TZOFFSETFROM:-0500
TZOFFSETTO:-0400
TZNAME:EDT
DTSTART:20250309T070000
END:DAYLIGHT
BEGIN:STANDARD
TZOFFSETFROM:-0400
TZOFFSETTO:-0500
TZNAME:EST
DTSTART:20251102T060000
END:STANDARD
BEGIN:DAYLIGHT
TZOFFSETFROM:-0500
TZOFFSETTO:-0400
TZNAME:EDT
DTSTART:20260308T070000
END:DAYLIGHT
BEGIN:STANDARD
TZOFFSETFROM:-0400
TZOFFSETTO:-0500
TZNAME:EST
DTSTART:20261101T060000
END:STANDARD
BEGIN:DAYLIGHT
TZOFFSETFROM:-0500
TZOFFSETTO:-0400
TZNAME:EDT
DTSTART:20270314T070000
END:DAYLIGHT
BEGIN:STANDARD
TZOFFSETFROM:-0400
TZOFFSETTO:-0500
TZNAME:EST
DTSTART:20271107T060000
END:STANDARD
END:VTIMEZONE
BEGIN:VEVENT
DTSTART;TZID=America/New_York:20260131T100000
DTEND;TZID=America/New_York:20260131T120000
DTSTAMP:20260422T063345
CREATED:20260119T190005Z
LAST-MODIFIED:20260129T014731Z
UID:2455-1769853600-1769860800@lohspets.org
SUMMARY:FREE Pet Vaccine & Microchip Clinic – January 31
DESCRIPTION:Due to forecasted weather conditions\, this event is postponed and will be rescheduled for a future date.\nWhen: Saturday\, January 31 • 10:00 AM – 12:00 PM\nWhere: Hancock County Youth Center | 12560 Augusta Hwy\, Sparta\, GA 31087 \nDogs and Cats Only 🐶🐱 (Limit 3 per household; all pets must be at least three months old) \n\nThings to Know:\n🐶🐱 DOGS AND CATS ONLY\nEach household may bring up to 3 pets\, AND pets must be at least 3 months old. \n✅ ELIGIBILITY:\nThis free clinic is designed for individuals and families with limited financial resources. If you participate in a public assistance program (ex. SNAP\, WIC\, TANF\, Medicaid\, SSI\, Section 8 Housing\, Free/Reduced School Lunch) OR if your household’s annual income level is within 200% of the federal poverty level\, you qualify for this clinic. \n[Read full details on eligibility below.] \n🕓 NO APPOINTMENTS NEEDED\nPets will be helped in the order they arrive\, while supplies last. We suggest arriving at the start of the event rather than waiting until the end\, as vaccine quantities are limited. \n💉 VACCINES AND MICROCHIPS ONLY\nVaccines available include: \n\nRabies\nBordetella\nDAPP\nFVRCP\n\nNo other medical care or services will be available. If you’re interested in low-cost spay/neuter for your pets\, our team can schedule a future appointment for you at our clinic. \n🚗 WHEN YOU ARRIVE\nThis is a drive-thru clinic. When you arrive\, please stay in your car\, with your pets. Volunteers will come to you. \n⚠️ SAFETY RULES\nAll pets must be properly restrained\, with dogs on leashes and cats in carriers. This event is NOT for feral or unowned community cats. Pets that are unsafe to handle may not be treated. \n🐾 This free clinic is open to any residents within the LOHS Service Area\, which includes:\n\nGreene County\nPutnam County\nBaldwin County\nHancock County\nMorgan County\nTaliaferro County\n\n\nEligibility Requirements:\nTo keep our clinics accessible to those who need it most\, there are the eligibility qualifications for this event. The clinic is designed for individuals and families with limited financial resources\, including participation in public assistance programs or income-based qualification. \n \n\nFOR QUESTIONS OR MORE INFORMATION:\nThis event is hosted by the Lake Oconee Humane Society (LOHS) in partnership with Central GA PAWS (Partnership for Animal Welfare Services)\, a coalition of rescue and shelter organizations in the region dedicated to improving the lives of animals and families in our community. \nIf you have any questions\, you can email Lake Oconee Humane Society at lohs@loshpets.org or call us at 706-454-1508.
URL:https://lohspets.org/event/vaccine-clinic-jan31-sparta/
LOCATION:Hancock County Youth Center\, 12560 Augusta Hwy\, Sparta\, GA\, 31087\, United States
CATEGORIES:Upcoming
ATTACH;FMTTYPE=image/png:https://lohspets.org/wp-content/uploads/2026/01/Vaccine-Clinic-Featured-Post-Jan31.png
ORGANIZER;CN="Lake Oconee Humane Society":MAILTO:lohspets@lohspets.org
END:VEVENT
END:VCALENDAR