BEGIN:VCALENDAR
VERSION:2.0
PRODID:-//Lake Oconee Humane Society - ECPv6.15.16//NONSGML v1.0//EN
CALSCALE:GREGORIAN
METHOD:PUBLISH
X-WR-CALNAME:Lake Oconee Humane Society
X-ORIGINAL-URL:https://lohspets.org
X-WR-CALDESC:Events for Lake Oconee Humane Society
REFRESH-INTERVAL;VALUE=DURATION:PT1H
X-Robots-Tag:noindex
X-PUBLISHED-TTL:PT1H
BEGIN:VTIMEZONE
TZID:America/New_York
BEGIN:DAYLIGHT
TZOFFSETFROM:-0500
TZOFFSETTO:-0400
TZNAME:EDT
DTSTART:20250309T070000
END:DAYLIGHT
BEGIN:STANDARD
TZOFFSETFROM:-0400
TZOFFSETTO:-0500
TZNAME:EST
DTSTART:20251102T060000
END:STANDARD
BEGIN:DAYLIGHT
TZOFFSETFROM:-0500
TZOFFSETTO:-0400
TZNAME:EDT
DTSTART:20260308T070000
END:DAYLIGHT
BEGIN:STANDARD
TZOFFSETFROM:-0400
TZOFFSETTO:-0500
TZNAME:EST
DTSTART:20261101T060000
END:STANDARD
BEGIN:DAYLIGHT
TZOFFSETFROM:-0500
TZOFFSETTO:-0400
TZNAME:EDT
DTSTART:20270314T070000
END:DAYLIGHT
BEGIN:STANDARD
TZOFFSETFROM:-0400
TZOFFSETTO:-0500
TZNAME:EST
DTSTART:20271107T060000
END:STANDARD
END:VTIMEZONE
BEGIN:VEVENT
DTSTART;TZID=America/New_York:20260423T170000
DTEND;TZID=America/New_York:20260423T200000
DTSTAMP:20260421T105200
CREATED:20260417T201646Z
LAST-MODIFIED:20260420T164041Z
UID:2602-1776963600-1776974400@lohspets.org
SUMMARY:Happy Hour Benefiting LOHS at Barrel 118
DESCRIPTION:Raise a glass in support of LOHS! Please join us for Happy Hour at Barrel 118 on Thursday\, April 23 from 5–8 PM.\nLOHS recently assisted Barrel 118 with the TNVR (Trap\, Neuter\, Vaccinate\, and Return) of seven community cats living outside the venue\, and in appreciation of that work\, Barrel 118 is donating 25% of all sales from this Happy Hour to LOHS to help us continue caring for animals in need! \nJoin us at Barrel’s Backstage Lounge for a creative cocktail\, glass of wine\, or craft beer\, and relax with friends in a cozy\, stylish setting featuring comfortable leather seating\, gorgeous rugs\, custom-built high-top tables\, and a beautiful antique bar. We’ll be pouring purrrrfect cocktails and mocktails\, alongside a rotating selection of wine and craft beer. \nPlease note: Guests are encouraged to bring their own dinner or snacks\, as food will not be provided—so pack your favorites or get some takeout\, and make yourself at home! \nYou can also explore Barrel 118’s Mixology Market\, open during Happy Hour\, where you can pick up ingredients to craft amazing drinks at home or find last-minute gifts for the cocktail lovers in your life. \nWhether you stop by for one drink or stay the whole evening\, every sip supports a great cause. We hope to see you there!
URL:https://lohspets.org/event/happy-hour-barrel118-april23/
LOCATION:Barrel 118\, 118 N. Jefferson Ave.\, Eatonton\, GA\, 31024\, United States
CATEGORIES:Upcoming
ATTACH;FMTTYPE=image/png:https://lohspets.org/wp-content/uploads/2026/04/Barrel-118-Happy-Hour-Featured.png
END:VEVENT
BEGIN:VEVENT
DTSTART;TZID=America/New_York:20260426T120000
DTEND;TZID=America/New_York:20260426T180000
DTSTAMP:20260421T105200
CREATED:20260415T185934Z
LAST-MODIFIED:20260417T201527Z
UID:2600-1777204800-1777226400@lohspets.org
SUMMARY:Adoption Event & Kitten Purrlates at All the Tropes Romance Bookstore in Atlanta
DESCRIPTION:On April 26\, All the Tropes Romance Bookstore + LOHS are teaming up again for more kitten-filled workouts and an in-store adoption event. This time\, we’re bringing you something new: Purr-lates! 🐾 Led by Dr. Kali Arnold of Sati Yoga & Wellness\, these Pilates classes are designed for every level\, whether you’re a regular or just rolling out your mat for the first time. Expect feel-good movement with plenty of laughs and chaotic cat shenanigans along the way! \n🎟️ Purrlates: Pilates Classes with Adoptable Kittens!\n$40 (with proceeds benefiting LOHS): \n9:00–10:00 AM (Early Bird)  \n10:30–11:30 AM (Mid-Morning) \nEach ticket includes an hour-long class + private shopping time with 10% off your purchase from ATT! Classes are BYOM (Bring Your Own Mat). \nSpots are limited—grab yours at allthetropesbookstore.com \n🐾 All-Day Adoption Event:\nNo ticket needed! Stop by to meet adoptable cats and sip on “purrfectly whisked” drinks from the Matcha Yaso pop-up. \nDuring our last adoption event\, every single kitten found a forever home. Let’s do it again! \nAdoption Special: $50 off all adoption fees (all cats are spayed/neutered\, vaccinated\, and microchipped.)
URL:https://lohspets.org/event/adoption-event-allthetropes-april26/
LOCATION:All the Tropes Romance Bookstore\, 27 Doyle Street SE\, Atlanta\, GA\, 30317
CATEGORIES:Upcoming
ORGANIZER;CN="Lake Oconee Humane Society":MAILTO:lohspets@lohspets.org
END:VEVENT
END:VCALENDAR